BEGIN:VCALENDAR
VERSION:2.0
PRODID:-//Lighthouse Point Gardens North - ECPv6.15.20//NONSGML v1.0//EN
CALSCALE:GREGORIAN
METHOD:PUBLISH
X-WR-CALNAME:Lighthouse Point Gardens North
X-ORIGINAL-URL:https://lpgncondo.com
X-WR-CALDESC:Events for Lighthouse Point Gardens North
REFRESH-INTERVAL;VALUE=DURATION:PT1H
X-Robots-Tag:noindex
X-PUBLISHED-TTL:PT1H
BEGIN:VTIMEZONE
TZID:America/New_York
BEGIN:DAYLIGHT
TZOFFSETFROM:-0500
TZOFFSETTO:-0400
TZNAME:EDT
DTSTART:20170312T070000
END:DAYLIGHT
BEGIN:STANDARD
TZOFFSETFROM:-0400
TZOFFSETTO:-0500
TZNAME:EST
DTSTART:20171105T060000
END:STANDARD
BEGIN:DAYLIGHT
TZOFFSETFROM:-0500
TZOFFSETTO:-0400
TZNAME:EDT
DTSTART:20180311T070000
END:DAYLIGHT
BEGIN:STANDARD
TZOFFSETFROM:-0400
TZOFFSETTO:-0500
TZNAME:EST
DTSTART:20181104T060000
END:STANDARD
BEGIN:DAYLIGHT
TZOFFSETFROM:-0500
TZOFFSETTO:-0400
TZNAME:EDT
DTSTART:20190310T070000
END:DAYLIGHT
BEGIN:STANDARD
TZOFFSETFROM:-0400
TZOFFSETTO:-0500
TZNAME:EST
DTSTART:20191103T060000
END:STANDARD
BEGIN:DAYLIGHT
TZOFFSETFROM:-0500
TZOFFSETTO:-0400
TZNAME:EDT
DTSTART:20200308T070000
END:DAYLIGHT
BEGIN:STANDARD
TZOFFSETFROM:-0400
TZOFFSETTO:-0500
TZNAME:EST
DTSTART:20201101T060000
END:STANDARD
END:VTIMEZONE
BEGIN:VEVENT
DTSTART;TZID=America/New_York:20190302T170000
DTEND;TZID=America/New_York:20190302T170000
DTSTAMP:20260423T215906
CREATED:20180523T153225Z
LAST-MODIFIED:20190228T162110Z
UID:1362-1551546000-1551546000@lpgncondo.com
SUMMARY:Cookout
DESCRIPTION:
URL:https://lpgncondo.com/event/cookout-32/
END:VEVENT
BEGIN:VEVENT
DTSTART;TZID=America/New_York:20181116T093000
DTEND;TZID=America/New_York:20181116T103000
DTSTAMP:20260423T215906
CREATED:20161221T160728Z
LAST-MODIFIED:20181106T150758Z
UID:571-1542360600-1542364200@lpgncondo.com
SUMMARY:Exercise
DESCRIPTION:
URL:https://lpgncondo.com/event/exercise-23/
END:VEVENT
BEGIN:VEVENT
DTSTART;TZID=America/New_York:20181115T080000
DTEND;TZID=America/New_York:20181115T170000
DTSTAMP:20260423T215906
CREATED:20181106T150851Z
LAST-MODIFIED:20181106T150851Z
UID:1434-1542268800-1542301200@lpgncondo.com
SUMMARY:OCEANIC
DESCRIPTION:
URL:https://lpgncondo.com/event/oceanic-2/
END:VEVENT
BEGIN:VEVENT
DTSTART;TZID=America/New_York:20181114T170000
DTEND;TZID=America/New_York:20181114T170000
DTSTAMP:20260423T215906
CREATED:20180523T153029Z
LAST-MODIFIED:20181106T150615Z
UID:1354-1542214800-1542214800@lpgncondo.com
SUMMARY:Cookout
DESCRIPTION:
URL:https://lpgncondo.com/event/cookout-30/
END:VEVENT
BEGIN:VEVENT
DTSTART;TZID=America/New_York:20181114T093000
DTEND;TZID=America/New_York:20181114T100000
DTSTAMP:20260423T215906
CREATED:20170427T131925Z
LAST-MODIFIED:20181106T150517Z
UID:897-1542187800-1542189600@lpgncondo.com
SUMMARY:Exercise
DESCRIPTION:
URL:https://lpgncondo.com/event/exercise-38/
END:VEVENT
BEGIN:VEVENT
DTSTART;TZID=America/New_York:20181112T093000
DTEND;TZID=America/New_York:20181112T100000
DTSTAMP:20260423T215906
CREATED:20170427T134139Z
LAST-MODIFIED:20181106T150353Z
UID:914-1542015000-1542016800@lpgncondo.com
SUMMARY:Exercise
DESCRIPTION:
URL:https://lpgncondo.com/event/exercise-41/
END:VEVENT
BEGIN:VEVENT
DTSTART;TZID=America/New_York:20181110T173000
DTEND;TZID=America/New_York:20181110T190000
DTSTAMP:20260423T215906
CREATED:20170427T134209Z
LAST-MODIFIED:20181106T150436Z
UID:916-1541871000-1541876400@lpgncondo.com
SUMMARY:Cookout
DESCRIPTION:
URL:https://lpgncondo.com/event/cookout-27/
END:VEVENT
BEGIN:VEVENT
DTSTART;TZID=America/New_York:20181109T093000
DTEND;TZID=America/New_York:20181109T103000
DTSTAMP:20260423T215906
CREATED:20170328T132212Z
LAST-MODIFIED:20181106T150315Z
UID:799-1541755800-1541759400@lpgncondo.com
SUMMARY:Exercise
DESCRIPTION:
URL:https://lpgncondo.com/event/exercise-25/
END:VEVENT
BEGIN:VEVENT
DTSTART;TZID=America/New_York:20181107T173000
DTEND;TZID=America/New_York:20181107T190000
DTSTAMP:20260423T215906
CREATED:20170427T131818Z
LAST-MODIFIED:20181106T150245Z
UID:893-1541611800-1541617200@lpgncondo.com
SUMMARY:Cookout
DESCRIPTION:
URL:https://lpgncondo.com/event/cookout-24/
END:VEVENT
BEGIN:VEVENT
DTSTART;TZID=America/New_York:20181107T093000
DTEND;TZID=America/New_York:20181107T103000
DTSTAMP:20260423T215906
CREATED:20170328T133556Z
LAST-MODIFIED:20181106T150155Z
UID:829-1541583000-1541586600@lpgncondo.com
SUMMARY:Exercise
DESCRIPTION:
URL:https://lpgncondo.com/event/exercise-30/
END:VEVENT
BEGIN:VEVENT
DTSTART;TZID=America/New_York:20181105T093000
DTEND;TZID=America/New_York:20181105T100000
DTSTAMP:20260423T215906
CREATED:20180523T153136Z
LAST-MODIFIED:20181106T150023Z
UID:1358-1541410200-1541412000@lpgncondo.com
SUMMARY:Exercise
DESCRIPTION:
URL:https://lpgncondo.com/event/exercise-49/
END:VEVENT
BEGIN:VEVENT
DTSTART;TZID=America/New_York:20181103T170000
DTEND;TZID=America/New_York:20181103T170000
DTSTAMP:20260423T215906
CREATED:20180523T153315Z
LAST-MODIFIED:20181106T150127Z
UID:1367-1541264400-1541264400@lpgncondo.com
SUMMARY:Cookout
DESCRIPTION:
URL:https://lpgncondo.com/event/cookout-33/
END:VEVENT
BEGIN:VEVENT
DTSTART;TZID=America/New_York:20180726T080000
DTEND;TZID=America/New_York:20180726T170000
DTSTAMP:20260423T215906
CREATED:20180706T133354Z
LAST-MODIFIED:20180706T133354Z
UID:1397-1532592000-1532624400@lpgncondo.com
SUMMARY:OFFICE CLOSED
DESCRIPTION:
URL:https://lpgncondo.com/event/office-closed-7/
END:VEVENT
BEGIN:VEVENT
DTSTART;TZID=America/New_York:20180724T080000
DTEND;TZID=America/New_York:20180724T170000
DTSTAMP:20260423T215906
CREATED:20180706T133303Z
LAST-MODIFIED:20180706T133316Z
UID:1395-1532419200-1532451600@lpgncondo.com
SUMMARY:OFFICE  CLOSED
DESCRIPTION:
URL:https://lpgncondo.com/event/office-closed-6/
END:VEVENT
BEGIN:VEVENT
DTSTART;TZID=America/New_York:20180721T170000
DTEND;TZID=America/New_York:20180721T170000
DTSTAMP:20260423T215906
CREATED:20180523T153104Z
LAST-MODIFIED:20180706T132423Z
UID:1356-1532192400-1532192400@lpgncondo.com
SUMMARY:Cookout
DESCRIPTION:
URL:https://lpgncondo.com/event/cookout-31/
END:VEVENT
BEGIN:VEVENT
DTSTART;TZID=America/New_York:20180719T080000
DTEND;TZID=America/New_York:20180719T170000
DTSTAMP:20260423T215906
CREATED:20180706T133238Z
LAST-MODIFIED:20180706T133238Z
UID:1393-1531987200-1532019600@lpgncondo.com
SUMMARY:OFFICE CLOSED
DESCRIPTION:
URL:https://lpgncondo.com/event/office-closed-5/
END:VEVENT
BEGIN:VEVENT
DTSTART;TZID=America/New_York:20180717T080000
DTEND;TZID=America/New_York:20180717T170000
DTSTAMP:20260423T215906
CREATED:20180706T133215Z
LAST-MODIFIED:20180706T133215Z
UID:1391-1531814400-1531846800@lpgncondo.com
SUMMARY:OFFICE CLOSED
DESCRIPTION:
URL:https://lpgncondo.com/event/office-closed-4/
END:VEVENT
BEGIN:VEVENT
DTSTART;TZID=America/New_York:20180712T080000
DTEND;TZID=America/New_York:20180712T170000
DTSTAMP:20260423T215906
CREATED:20180706T133144Z
LAST-MODIFIED:20180706T133144Z
UID:1389-1531382400-1531414800@lpgncondo.com
SUMMARY:OFFICE CLOSED
DESCRIPTION:
URL:https://lpgncondo.com/event/office-closed-2/
END:VEVENT
BEGIN:VEVENT
DTSTART;TZID=America/New_York:20180711T093000
DTEND;TZID=America/New_York:20180711T100000
DTSTAMP:20260423T215906
CREATED:20180523T153253Z
LAST-MODIFIED:20180706T131951Z
UID:1365-1531301400-1531303200@lpgncondo.com
SUMMARY:Exercise
DESCRIPTION:
URL:https://lpgncondo.com/event/exercise-51/
END:VEVENT
BEGIN:VEVENT
DTSTART;TZID=America/New_York:20180710T080000
DTEND;TZID=America/New_York:20180710T170000
DTSTAMP:20260423T215906
CREATED:20171205T162109Z
LAST-MODIFIED:20180706T133120Z
UID:1053-1531209600-1531242000@lpgncondo.com
SUMMARY:Office Closed
DESCRIPTION:
URL:https://lpgncondo.com/event/office-closed/
END:VEVENT
BEGIN:VEVENT
DTSTART;TZID=America/New_York:20180702T093000
DTEND;TZID=America/New_York:20180702T100000
DTSTAMP:20260423T215906
CREATED:20180523T153530Z
LAST-MODIFIED:20180706T131634Z
UID:1375-1530523800-1530525600@lpgncondo.com
SUMMARY:Exercise
DESCRIPTION:
URL:https://lpgncondo.com/event/exercise-54/
END:VEVENT
BEGIN:VEVENT
DTSTART;TZID=America/New_York:20180609T170000
DTEND;TZID=America/New_York:20180609T190000
DTSTAMP:20260423T215906
CREATED:20180228T151502Z
LAST-MODIFIED:20180523T152642Z
UID:1212-1528563600-1528570800@lpgncondo.com
SUMMARY:Cookout
DESCRIPTION:
URL:https://lpgncondo.com/event/cookout-29/
END:VEVENT
BEGIN:VEVENT
DTSTART;TZID=America/New_York:20180602T173000
DTEND;TZID=America/New_York:20180602T190000
DTSTAMP:20260423T215906
CREATED:20170328T132417Z
LAST-MODIFIED:20180523T152247Z
UID:805-1527960600-1527966000@lpgncondo.com
SUMMARY:Cookout
DESCRIPTION:
URL:https://lpgncondo.com/event/cookout-17/
END:VEVENT
BEGIN:VEVENT
DTSTART;TZID=America/New_York:20180601T093000
DTEND;TZID=America/New_York:20180601T100000
DTSTAMP:20260423T215906
CREATED:20170427T131208Z
LAST-MODIFIED:20180523T152147Z
UID:873-1527845400-1527847200@lpgncondo.com
SUMMARY:Exercise
DESCRIPTION:
URL:https://lpgncondo.com/event/exercise-33/
END:VEVENT
BEGIN:VEVENT
DTSTART;TZID=America/New_York:20180530T173000
DTEND;TZID=America/New_York:20180530T190000
DTSTAMP:20260423T215906
CREATED:20170328T133523Z
LAST-MODIFIED:20180425T142838Z
UID:827-1527701400-1527706800@lpgncondo.com
SUMMARY:Cookout
DESCRIPTION:
URL:https://lpgncondo.com/event/cookout-20/
END:VEVENT
BEGIN:VEVENT
DTSTART;TZID=America/New_York:20180530T093000
DTEND;TZID=America/New_York:20180530T110000
DTSTAMP:20260423T215906
CREATED:20180228T151353Z
LAST-MODIFIED:20180425T141919Z
UID:1210-1527672600-1527678000@lpgncondo.com
SUMMARY:Exercise
DESCRIPTION:
URL:https://lpgncondo.com/event/exercise-46/
END:VEVENT
BEGIN:VEVENT
DTSTART;TZID=America/New_York:20180528T093000
DTEND;TZID=America/New_York:20180528T103000
DTSTAMP:20260423T215906
CREATED:20170328T132955Z
LAST-MODIFIED:20180425T143407Z
UID:815-1527499800-1527503400@lpgncondo.com
SUMMARY:Exercise
DESCRIPTION:
URL:https://lpgncondo.com/event/exercise-28/
END:VEVENT
BEGIN:VEVENT
DTSTART;TZID=America/New_York:20180528T080000
DTEND;TZID=America/New_York:20180528T170000
DTSTAMP:20260423T215906
CREATED:20180425T143423Z
LAST-MODIFIED:20180425T143423Z
UID:1318-1527494400-1527526800@lpgncondo.com
SUMMARY:MEMORIAL DAY
DESCRIPTION:
URL:https://lpgncondo.com/event/memorial-day/
END:VEVENT
BEGIN:VEVENT
DTSTART;TZID=America/New_York:20180525T093000
DTEND;TZID=America/New_York:20180525T100000
DTSTAMP:20260423T215906
CREATED:20180228T151257Z
LAST-MODIFIED:20180425T142747Z
UID:1206-1527240600-1527242400@lpgncondo.com
SUMMARY:Exercise
DESCRIPTION:
URL:https://lpgncondo.com/event/exercise-44/
END:VEVENT
BEGIN:VEVENT
DTSTART;TZID=America/New_York:20180524T080000
DTEND;TZID=America/New_York:20180528T170000
DTSTAMP:20260423T215906
CREATED:20180425T143458Z
LAST-MODIFIED:20180523T152037Z
UID:1322-1527148800-1527526800@lpgncondo.com
SUMMARY:OFFICE CLOSED
DESCRIPTION:
URL:https://lpgncondo.com/event/office-closed-3/
END:VEVENT
END:VCALENDAR