BEGIN:VCALENDAR
VERSION:2.0
PRODID:-//Lighthouse Point Gardens North - ECPv6.15.20//NONSGML v1.0//EN
CALSCALE:GREGORIAN
METHOD:PUBLISH
X-WR-CALNAME:Lighthouse Point Gardens North
X-ORIGINAL-URL:https://lpgncondo.com
X-WR-CALDESC:Events for Lighthouse Point Gardens North
REFRESH-INTERVAL;VALUE=DURATION:PT1H
X-Robots-Tag:noindex
X-PUBLISHED-TTL:PT1H
BEGIN:VTIMEZONE
TZID:America/New_York
BEGIN:DAYLIGHT
TZOFFSETFROM:-0500
TZOFFSETTO:-0400
TZNAME:EDT
DTSTART:20150308T070000
END:DAYLIGHT
BEGIN:STANDARD
TZOFFSETFROM:-0400
TZOFFSETTO:-0500
TZNAME:EST
DTSTART:20151101T060000
END:STANDARD
BEGIN:DAYLIGHT
TZOFFSETFROM:-0500
TZOFFSETTO:-0400
TZNAME:EDT
DTSTART:20160313T070000
END:DAYLIGHT
BEGIN:STANDARD
TZOFFSETFROM:-0400
TZOFFSETTO:-0500
TZNAME:EST
DTSTART:20161106T060000
END:STANDARD
BEGIN:DAYLIGHT
TZOFFSETFROM:-0500
TZOFFSETTO:-0400
TZNAME:EDT
DTSTART:20170312T070000
END:DAYLIGHT
BEGIN:STANDARD
TZOFFSETFROM:-0400
TZOFFSETTO:-0500
TZNAME:EST
DTSTART:20171105T060000
END:STANDARD
END:VTIMEZONE
BEGIN:VEVENT
DTSTART;VALUE=DATE:20161205
DTEND;VALUE=DATE:20161206
DTSTAMP:20260422T153301
CREATED:20160421T151240Z
LAST-MODIFIED:20161116T160812Z
UID:256-1480896000-1480982399@lpgncondo.com
SUMMARY:Oceanic - Pest Control
DESCRIPTION:Service Day – October
URL:https://lpgncondo.com/event/oceanic-pest-control/
CATEGORIES:Pest Control
END:VEVENT
BEGIN:VEVENT
DTSTART;TZID=America/New_York:20160915T090000
DTEND;TZID=America/New_York:20160915T170000
DTSTAMP:20260422T153301
CREATED:20160421T151333Z
LAST-MODIFIED:20160721T154203Z
UID:257-1473930000-1473958800@lpgncondo.com
SUMMARY:Oceanic - Pest Control
DESCRIPTION:Service Date – September
URL:https://lpgncondo.com/event/oceanic-pest-control-2/
CATEGORIES:Pest Control
END:VEVENT
BEGIN:VEVENT
DTSTART;TZID=America/New_York:20160818T090000
DTEND;TZID=America/New_York:20160818T170000
DTSTAMP:20260422T153301
CREATED:20160421T151431Z
LAST-MODIFIED:20160721T154228Z
UID:258-1471510800-1471539600@lpgncondo.com
SUMMARY:Oceanic - Pest Control
DESCRIPTION:Service date – August
URL:https://lpgncondo.com/event/oceanic-pest-control-3/
CATEGORIES:Pest Control
END:VEVENT
BEGIN:VEVENT
DTSTART;TZID=America/New_York:20160425T090000
DTEND;TZID=America/New_York:20160425T170000
DTSTAMP:20260422T153301
CREATED:20160421T151112Z
LAST-MODIFIED:20160421T152925Z
UID:255-1461574800-1461603600@lpgncondo.com
SUMMARY:Dead Bug - Pest Control  -  all units
DESCRIPTION:Dead Bug Edwards will be coming in on Monday\, April 25th to spray all units. \nStarting at 9am – Building 1.
URL:https://lpgncondo.com/event/dead-bug-pest-control-units/
CATEGORIES:Pest Control
END:VEVENT
END:VCALENDAR